BEGIN:VCALENDAR
VERSION:2.0
PRODID:-//Northshore Magazine - ECPv6.6.4.2//NONSGML v1.0//EN
CALSCALE:GREGORIAN
METHOD:PUBLISH
X-WR-CALNAME:Northshore Magazine
X-ORIGINAL-URL:https://www.nshoremag.com
X-WR-CALDESC:Events for Northshore Magazine
REFRESH-INTERVAL;VALUE=DURATION:PT1H
X-Robots-Tag:noindex
X-PUBLISHED-TTL:PT1H
BEGIN:VTIMEZONE
TZID:America/New_York
BEGIN:DAYLIGHT
TZOFFSETFROM:-0500
TZOFFSETTO:-0400
TZNAME:EDT
DTSTART:20240310T070000
END:DAYLIGHT
BEGIN:STANDARD
TZOFFSETFROM:-0400
TZOFFSETTO:-0500
TZNAME:EST
DTSTART:20241103T060000
END:STANDARD
END:VTIMEZONE
BEGIN:VEVENT
DTSTART;TZID=America/New_York:20240202T200000
DTEND;TZID=America/New_York:20240202T220000
DTSTAMP:20260425T104307
CREATED:20240124T180807Z
LAST-MODIFIED:20240124T180810Z
UID:181726-1706904000-1706911200@www.nshoremag.com
SUMMARY:Winter Comedy Night at Firehouse Center for the Arts
DESCRIPTION:Break those winter blues for a night of laughs as Comedy Night returns to the Firehouse featuring some of the best comedic talent in the region! Hosted by Mike Smith with headliner Rafi Gonzalez along with Jason Merrill and Jay Martin. \n\n\n\n\n\nRafi Gonzalez has skyrocketed to the top of the comedy ranks and is touring nationally and internationally as a headlining performer on Carnival Cruise lines. He has appeared on HBO MAX as part of the Ha Comedy Festival\, was a finalist in the Boston Comedy Festival and was voted “Best of the Fest” in The Noho Comedy Festival and The Burbank Comedy Festival in Los Angeles. In 2022\, Gonzalez participated in the prestigious San Francisco Comedy Competition and has appeared  on Gotham Comedy TV Live\, The Punchline\, MGM Springfield\, Laugh Boston\, and major clubs nationally.   \n\n\n\nJason Merrill works the top clubs in New England and is a featured performer at Giggles\, Kowloon\, The Tupelo\, the Bradley Playhouse and more\, as well as sharing the stage with the likes of comedy stars Lenny Clarke\, Steve Sweeney\, and Paul D’Angelo. Merrill quickly rose through the comedy ranks and is well on his way to being a star on the Boston comedy scene. \n\n\n\nJay Martin is an up and coming comedian selected to perform in the Rogue Island Comedy Festival and is a regular at Laugh Boston\, Off Cabot Comedy Club and most recently had his first headlining weekend at Nick’s Comedy Stop. He has performed at  Comedy Scene at Patriot Place\, Roar Comedy Club\, The Stand in New York and The Comedy Shop also in New York. 
URL:https://www.nshoremag.com/event/winter-comedy-night-at-firehouse-center-for-the-arts/
LOCATION:Firehouse Center for the Arts\, Market Square\, Newburyport\, Massachusetts\, United States
CATEGORIES:Festival,Nightlife
END:VEVENT
END:VCALENDAR