BEGIN:VCALENDAR
VERSION:2.0
PRODID:-//Northshore Magazine - ECPv6.6.4.2//NONSGML v1.0//EN
CALSCALE:GREGORIAN
METHOD:PUBLISH
X-ORIGINAL-URL:https://www.nshoremag.com
X-WR-CALDESC:Events for Northshore Magazine
REFRESH-INTERVAL;VALUE=DURATION:PT1H
X-Robots-Tag:noindex
X-PUBLISHED-TTL:PT1H
BEGIN:VTIMEZONE
TZID:America/New_York
BEGIN:DAYLIGHT
TZOFFSETFROM:-0500
TZOFFSETTO:-0400
TZNAME:EDT
DTSTART:20240310T070000
END:DAYLIGHT
BEGIN:STANDARD
TZOFFSETFROM:-0400
TZOFFSETTO:-0500
TZNAME:EST
DTSTART:20241103T060000
END:STANDARD
END:VTIMEZONE
BEGIN:VEVENT
DTSTART;TZID=America/New_York:20240204T160000
DTEND;TZID=America/New_York:20240204T183000
DTSTAMP:20260425T134001
CREATED:20240109T204947Z
LAST-MODIFIED:20240109T204949Z
UID:181493-1707062400-1707071400@www.nshoremag.com
SUMMARY:Beauport Hospitality Group Wedding Showcase 2024
DESCRIPTION:Recently winning Editor’s Choice for 2024’s Best Bridal Shows by Northshore Magazine\, join the Beauport Hospitality Group’s Wedding team (Beauport Hotel\, Cruiseport Gloucester and Beauport Cruiselines) and the best Professional Vendors in the business for our annual Wedding Showcase hosted by 617 Event Group! \n\n\n\nMeet\, mix\, and mingle with vendors in every category\, leading up to and during your wedding day\, while viewing one of the North Shore’s premiere wedding venues – Cruiseport Gloucester.   \n\n\n\nWe will also be showcasing Beauport Cruiselines\, Editor’s Choice winner for Unique Venues 2024 by Northshore Magazine\, that is docked just outside Cruiseport. Specializing in all of life’s celebrations\, our Cruiseship is perfect for your unique rehearsal\, dinner\, or wedding! 
URL:https://www.nshoremag.com/event/beauport-hospitality-group-wedding-showcase-2024/
LOCATION:Cruiseport Gloucester\, 6 Rowe Square\, Gloucester\, Massachusetts\, United States
CATEGORIES:Festival,Food + Drink,Shop
END:VEVENT
END:VCALENDAR