BEGIN:VCALENDAR
VERSION:2.0
PRODID:-//Northshore Magazine - ECPv6.6.4.2//NONSGML v1.0//EN
CALSCALE:GREGORIAN
METHOD:PUBLISH
X-ORIGINAL-URL:https://www.nshoremag.com
X-WR-CALDESC:Events for Northshore Magazine
REFRESH-INTERVAL;VALUE=DURATION:PT1H
X-Robots-Tag:noindex
X-PUBLISHED-TTL:PT1H
BEGIN:VTIMEZONE
TZID:America/New_York
BEGIN:DAYLIGHT
TZOFFSETFROM:-0500
TZOFFSETTO:-0400
TZNAME:EDT
DTSTART:20240310T070000
END:DAYLIGHT
BEGIN:STANDARD
TZOFFSETFROM:-0400
TZOFFSETTO:-0500
TZNAME:EST
DTSTART:20241103T060000
END:STANDARD
END:VTIMEZONE
BEGIN:VEVENT
DTSTART;TZID=America/New_York:20240225T110000
DTEND;TZID=America/New_York:20240225T140000
DTSTAMP:20260425T104428
CREATED:20240223T150856Z
LAST-MODIFIED:20240223T150857Z
UID:181963-1708858800-1708869600@www.nshoremag.com
SUMMARY:Brunch & Live Music: Seaglass
DESCRIPTION:Join Seaglass in Salisbury for Sunday Brunch by the Sea featuring delicious twists on all your favorite brunch classics. Soak in the seaside sunshine every Sunday while sipping on craft cocktails and enjoying coastal tunes from talented local musicians. Grab your pals\, fam\, or date! \n\n\n\n\n\nServing Brunch every Sunday from 10AM-2PM. \n\n\n\nLIVE MUSIC – Sundays | 11AM-2PM \n\n\n\nFEB25 | Sam Hammerman
URL:https://www.nshoremag.com/event/brunch-live-music-seaglass/
LOCATION:Seaglass\, 83 Driftway\, Salisbury\, Massachusetts\, United States
CATEGORIES:Food + Drink,Music
END:VEVENT
END:VCALENDAR