BEGIN:VCALENDAR
VERSION:2.0
PRODID:-//Northshore Magazine - ECPv6.6.4.2//NONSGML v1.0//EN
CALSCALE:GREGORIAN
METHOD:PUBLISH
X-WR-CALNAME:Northshore Magazine
X-ORIGINAL-URL:https://www.nshoremag.com
X-WR-CALDESC:Events for Northshore Magazine
REFRESH-INTERVAL;VALUE=DURATION:PT1H
X-Robots-Tag:noindex
X-PUBLISHED-TTL:PT1H
BEGIN:VTIMEZONE
TZID:America/New_York
BEGIN:DAYLIGHT
TZOFFSETFROM:-0500
TZOFFSETTO:-0400
TZNAME:EDT
DTSTART:20240310T070000
END:DAYLIGHT
BEGIN:STANDARD
TZOFFSETFROM:-0400
TZOFFSETTO:-0500
TZNAME:EST
DTSTART:20241103T060000
END:STANDARD
END:VTIMEZONE
BEGIN:VEVENT
DTSTART;TZID=America/New_York:20240302T090000
DTEND;TZID=America/New_York:20240303T160000
DTSTAMP:20260425T141037
CREATED:20240301T152825Z
LAST-MODIFIED:20240301T152904Z
UID:182076-1709370000-1709481600@www.nshoremag.com
SUMMARY:Wenham Museum Spring & Summer Sports Sale 2024
DESCRIPTION:On the first weekend in March\, the Wenham Museum hosts its first ever spring and summer sports sale. The museum encourages folks to donate gently used sports equipment they no longer need\, and head to the sale to shop for discounted secondhand youth sports and outdoor recreation goods. The sale runs from 9 a.m. to 4 p.m. each day\, and proceeds benefit the Wenham Museum.
URL:https://www.nshoremag.com/event/wenham-museum-spring-summer-sports-sale-2024/
LOCATION:Wenham Museum\, 132 Main Street\, Wenham\, Massachusetts\, United States
CATEGORIES:Charity,Fitness
END:VEVENT
BEGIN:VEVENT
DTSTART;TZID=America/New_York:20240302T120000
DTEND;TZID=America/New_York:20240303T150000
DTSTAMP:20260425T141037
CREATED:20240301T153204Z
LAST-MODIFIED:20240301T153218Z
UID:182078-1709380800-1709478000@www.nshoremag.com
SUMMARY:Maple Season at Appleton Farms 2024
DESCRIPTION:When the March thaw begins to reawaken the world in the spring\, maple trees are one of the first things to feel it. Sap flows up their trunks\, bringing nutrients to their branches and filling buckets when the trees are tapped. Witness this spring ritual at Appleton Farms on weekends from March 2 through 17—the farm hosts “maple strolls\,” which take guests to the farm’s historic sugar shack and maple grove\, along with a “maple in the barnyard” program geared toward kids.
URL:https://www.nshoremag.com/event/maple-season-at-appleton-farms-2024/
LOCATION:Appleton Farms\, 219 County Road\, Hamilton & Ipswich\, Massachusetts\, United States
CATEGORIES:Education,Food + Drink,Kids,Outdoor
END:VEVENT
BEGIN:VEVENT
DTSTART;TZID=America/New_York:20240302T160000
DTEND;TZID=America/New_York:20240302T200000
DTSTAMP:20260425T141037
CREATED:20240301T152301Z
LAST-MODIFIED:20240301T152303Z
UID:182072-1709395200-1709409600@www.nshoremag.com
SUMMARY:Wine Festival at The Artisan Hotel
DESCRIPTION:Join The Artisan Hotel at the Tuscan Village for their first Grand Wine Festival March 2nd\, from 4 – 8PM. Sample over 50+ wines from local and worldwide vineyards such as Moet & Chandon\, Caymus Vineyards\, Banfi Vineyard\, La Marca\, Ricossa & more! Guests can also enjoy local food vendors and light bites such as oysters\, shrimp cocktail\, imported meats and cheeses & more throughout the event!  \n\n\n\nGuests must be 21+ to purchase a ticket.
URL:https://www.nshoremag.com/event/wine-festival-at-the-artisan-hotel/
LOCATION:The Artisan Hotel at Tuscan Village\, 17 Via Toscana\, Salem\, New Hampshire\, United States
CATEGORIES:Food + Drink
END:VEVENT
END:VCALENDAR