BEGIN:VCALENDAR
VERSION:2.0
PRODID:-//Northshore Magazine - ECPv6.6.4.2//NONSGML v1.0//EN
CALSCALE:GREGORIAN
METHOD:PUBLISH
X-ORIGINAL-URL:https://www.nshoremag.com
X-WR-CALDESC:Events for Northshore Magazine
REFRESH-INTERVAL;VALUE=DURATION:PT1H
X-Robots-Tag:noindex
X-PUBLISHED-TTL:PT1H
BEGIN:VTIMEZONE
TZID:America/New_York
BEGIN:DAYLIGHT
TZOFFSETFROM:-0500
TZOFFSETTO:-0400
TZNAME:EDT
DTSTART:20230312T070000
END:DAYLIGHT
BEGIN:STANDARD
TZOFFSETFROM:-0400
TZOFFSETTO:-0500
TZNAME:EST
DTSTART:20231105T060000
END:STANDARD
BEGIN:DAYLIGHT
TZOFFSETFROM:-0500
TZOFFSETTO:-0400
TZNAME:EDT
DTSTART:20240310T070000
END:DAYLIGHT
BEGIN:STANDARD
TZOFFSETFROM:-0400
TZOFFSETTO:-0500
TZNAME:EST
DTSTART:20241103T060000
END:STANDARD
END:VTIMEZONE
BEGIN:VEVENT
DTSTART;TZID=America/New_York:20231226T000000
DTEND;TZID=America/New_York:20240101T235959
DTSTAMP:20260425T105251
CREATED:20231106T163421Z
LAST-MODIFIED:20231106T163423Z
UID:180366-1703548800-1704153599@www.nshoremag.com
SUMMARY:Frozen Fire Festival
DESCRIPTION:Frozen Fire Festival\, the centerpiece for dynamic winter entertainment\, artisan shopping\, hospitality and craft libations. Immerse yourself in mesmerizing fire and ice installations while taking in captivating fire and cirque performances. This vibrant destination offers an unforgettable experience for the senses.
URL:https://www.nshoremag.com/event/frozen-fire-festival/
LOCATION:Charlotte Forten Park\, 289 Derby Street\, Salem\, Massachusetts\, 01970\, United States
CATEGORIES:Competition,Craft,Farmers' Market,Festival,Food + Drink,Holiday,Music,Nightlife,Outdoor,Shop,Shopping,Theater
END:VEVENT
BEGIN:VEVENT
DTSTART;TZID=America/New_York:20240103T160000
DTEND;TZID=America/New_York:20240107T213000
DTSTAMP:20260425T105251
CREATED:20240103T183328Z
LAST-MODIFIED:20240103T183330Z
UID:181328-1704297600-1704663000@www.nshoremag.com
SUMMARY:Zoolights 2024
DESCRIPTION:Enter a winter wonderland of tree-lined paths lit by thousands of twinkling lights spanning Stone Zoo’s 26 acres. Take a sparkling stroll through festively decorated Yukon Creek\, home to black bears\, Canada lynx\, reindeer and more. This year’s event promises to enchant visitors of all ages with more twinkling lights and festive cheer.
URL:https://www.nshoremag.com/event/zoolights-2024/
LOCATION:Stone Zoo\, 149 Pond Street\, Stoneham\, Massachusetts\, United States
CATEGORIES:Festival,Kids,Nightlife,Outdoor
END:VEVENT
BEGIN:VEVENT
DTSTART;TZID=America/New_York:20240105T173000
DTEND;TZID=America/New_York:20240105T220000
DTSTAMP:20260425T105251
CREATED:20240103T180701Z
LAST-MODIFIED:20240103T180703Z
UID:181319-1704475800-1704492000@www.nshoremag.com
SUMMARY:Party in the Ballroom with Annie Brobst
DESCRIPTION:Come enjoy the party in Danversport’s Harborview Ballroom with Annie Brobst Friday\, January 5\, 2024! \n\n\n\nJoin for their “Party on the Patio style” Party in the Ballroom! You won’t want to miss their drink specials and patio fare from a mouthwatering menu that were enjoyed all summer long! \n\n\n\nDance the night away with the famous Annie Brobst! The party will start at 5:30pm and conclude around 9:30pm. Kitchen will be serving your favorite patio dishes from 5:30 – 8:30pm.
URL:https://www.nshoremag.com/event/party-in-the-ballroom-with-annie-brobst/
LOCATION:Danversport Harborview Ballroom\, 161 Elliott Street\, Danvers\, Massachusetts\, United States
CATEGORIES:Food + Drink,Music
END:VEVENT
BEGIN:VEVENT
DTSTART;TZID=America/New_York:20240106T120000
DTEND;TZID=America/New_York:20240106T160000
DTSTAMP:20260425T105251
CREATED:20240103T180056Z
LAST-MODIFIED:20240103T180058Z
UID:181317-1704542400-1704556800@www.nshoremag.com
SUMMARY:New Restaurant: BOSA Coastal Italian  & Rooftop Bar Job Fair 2024
DESCRIPTION:Construction is speeding right along and BOSA Italian is still on track to open this winter in Downtown Haverhill.  \n\n\n\nOn Thursday\, January 4th and Saturday\, January 6th we will be hosting a Job Fair for many open positions such as: Sous Chef\, Chef de Cuisine\, Line Cooks\, Managers\, Bartenders\, Servers\, Hosts\, Runners\, & Dishwashers! \n\n\n\nPlease spread the word to family and friends who may be looking for an exciting opportunity at one of Merrimack Valley’s newest restaurant experiences.
URL:https://www.nshoremag.com/event/new-restaurant-bosa-coastal-italian-rooftop-bar-job-fair-2024/
LOCATION:BOSA Italian\, 160 Merrimack Street\, Haverhill\, Massachusetts\, United States
END:VEVENT
BEGIN:VEVENT
DTSTART;TZID=America/New_York:20240106T130000
DTEND;TZID=America/New_York:20240106T170000
DTSTAMP:20260425T105251
CREATED:20231115T181401Z
LAST-MODIFIED:20231115T181406Z
UID:180671-1704546000-1704560400@www.nshoremag.com
SUMMARY:Massachusetts Bridal & Wedding Expo
DESCRIPTION:This event features an amazing selection of wedding professionals ready to help you find the perfect gown\, reception venue\, invitations\, photographer\, music\, menu\, honeymoon destination\, and much more! \n\n\n\nDon’t miss the bridal fashion shows and live DJ demos\, plus tons of prizes and giveaways.
URL:https://www.nshoremag.com/event/massachusetts-bridal-wedding-expo/
LOCATION:Shriners Auditorium\, 99 Fordham Road\, Wilmington\, Massachusetts\, 01887\, United States
CATEGORIES:Business + Networking,Education,Festival,Shop,Shopping,Wedding
END:VEVENT
BEGIN:VEVENT
DTSTART;TZID=America/New_York:20240107T120000
DTEND;TZID=America/New_York:20240107T160000
DTSTAMP:20260425T105251
CREATED:20240103T174755Z
LAST-MODIFIED:20240103T174804Z
UID:181311-1704628800-1704643200@www.nshoremag.com
SUMMARY:Amesbury Winter Market 2024
DESCRIPTION:Welcome to Amesbury Market Daze at BareWolf Brewing\, a weekly vendor market where local surrounding Amesbury talent and community spirit converge. \n\n\n\nJoin us on Sundays throughout the Winter to curate and foster a community atmosphere\, where vendors and customers alike connect on a personal level\, creating lasting relationships. \n\n\n\nMake sure to visit this consistent marketplace that showcases local art and food from talented local artisans\, chefs\, farmers\, creators and curators of surrounding Amesbury\, Massachusetts.
URL:https://www.nshoremag.com/event/amesbury-winter-market-2024/
LOCATION:BareWolf Brewing\, 12 Oakland Street\, Amesbury\, Massachusetts\, United States
CATEGORIES:Craft,Farmers' Market
END:VEVENT
BEGIN:VEVENT
DTSTART;TZID=America/New_York:20240107T130000
DTEND;TZID=America/New_York:20240107T170000
DTSTAMP:20260425T105251
CREATED:20231115T181401Z
LAST-MODIFIED:20231115T181401Z
UID:180673-1704632400-1704646800@www.nshoremag.com
SUMMARY:Massachusetts Bridal & Wedding Expo
DESCRIPTION:This event features an amazing selection of wedding professionals ready to help you find the perfect gown\, reception venue\, invitations\, photographer\, music\, menu\, honeymoon destination\, and much more! \n\n\n\nDon’t miss the bridal fashion shows and live DJ demos\, plus tons of prizes and giveaways.
URL:https://www.nshoremag.com/event/massachusetts-bridal-wedding-expo-2024-01-07/
LOCATION:Shriners Auditorium\, 99 Fordham Road\, Wilmington\, Massachusetts\, 01887\, United States
CATEGORIES:Business + Networking,Education,Festival,Shop,Shopping,Wedding
END:VEVENT
BEGIN:VEVENT
DTSTART;TZID=America/New_York:20240110T000000
DTEND;TZID=America/New_York:20240114T235959
DTSTAMP:20260425T105251
CREATED:20231115T170905Z
LAST-MODIFIED:20231115T170907Z
UID:180660-1704844800-1705276799@www.nshoremag.com
SUMMARY:The Discover Boating New England Boat Show
DESCRIPTION:Anchors\, away! The Discover Boating® New England Boat Show®\, in partnership with Progressive® Insurance\, returns to the Boston Convention and Exhibition Center January 10th-14th\, 2023. \n\n\n\nWith hundreds of boats on display and nautical attractions for the whole family\, the Discover Boating New England Boat Show has something in store for everyone. 
URL:https://www.nshoremag.com/event/the-discover-boating-new-england-boat-show/
LOCATION:Boston Convention and Exhibition Center\, 415 Summer Street\, Boston\, Massachusetts\, 02210\, United States
CATEGORIES:Business + Networking,Education,Festival,Shop,Shopping
END:VEVENT
BEGIN:VEVENT
DTSTART;TZID=America/New_York:20240111T180000
DTEND;TZID=America/New_York:20240112T200000
DTSTAMP:20260425T105251
CREATED:20240103T172009Z
LAST-MODIFIED:20240103T172011Z
UID:181306-1704996000-1705089600@www.nshoremag.com
SUMMARY:Appleton Culinary Workshop 2024
DESCRIPTION:Create and experience wellness for you and your loved ones through a practical blend of Ayurvedic (traditional Hindu system of medicine) and Functional (identifying root cause medicine) cooking practices. \n\n\n\n\n\nEach class will highlight approximately a half dozen healthy in-season ingredients (protein\, vegetable\, herb\, fat\, fruit\, fiber) complemented by the common items stocked in a kitchen. We will focus on seasonal and locally-selected sourced ingredients to prepare and create a variety of healthful\, vitality-promoting\, and anti-inflammatory dishes that are simple and easy to recreate over and over at home.  \n\n\n\nThey’re offering a three-part series of this class for January\, but classes can be taken individually or as a series. Attending the full series will afford you the opportunity to review updates on your progress\, and allow for additional follow-up questions to be addressed. However\, classes can also be taken individually\, and you must register for all classes separately.
URL:https://www.nshoremag.com/event/appleton-culinary-workshop-2024/
LOCATION:Appleton Farms\, 219 County Road\, Hamilton & Ipswich\, Massachusetts\, United States
CATEGORIES:Cooking
END:VEVENT
BEGIN:VEVENT
DTSTART;TZID=America/New_York:20240113T150000
DTEND;TZID=America/New_York:20240113T200000
DTSTAMP:20260425T105251
CREATED:20240103T170855Z
LAST-MODIFIED:20240103T170858Z
UID:181302-1705158000-1705176000@www.nshoremag.com
SUMMARY:Old Newbury Bonfire 2024 
DESCRIPTION:If you’re in search of fun Things to Do in Greater Newburyport during the Winter months\, The Old Newbury Bonfire is absolutely the most popular event in January and one of the top events of the winter season. Even better\, the Bonfire is an important annual fundraiser helping to support the Newbury volunteer fire department and Historic New England.  \n\n\n\nThe Newbury Fire Department typically sparks up this amazing bonfire at dusk\, which tends to be at approximately 4:30 pm. We encourage folks to bundle up and arrive early leaving time to tour the historic 1690 farm house of Spencer Peirce Little Farm between 3-4 pm.  \n\n\n\nThe Old Newbury Bonfire is a local tradition and the ultimate example of New Englanders making the most of the cold winter season! This family friendly social event features local vendors offering: food\, beer\, wine\, and hot chocolate\, available for purchase. \n\n\n\nPurchase a Parking Pass:  \n\n\n\n\n\nEvent admission is free\, but there is a parking fee of $20 per car. We encourage folks to pre-purchase a parking pass in order to secure a spot in the parking field. Please print your ticket with barcode prior to the event. Enter the event via Little’s Lane and show your ticket to the parking attendant. Parking passes are valid only for the Little’s Lane lot for the day of the event and parking passes are non-refundable. For more information please call 978-462-2634. Parking passes can be purchased at the gate\, only with cash payment. 
URL:https://www.nshoremag.com/event/old-newbury-bonfire-2024/
LOCATION:Spencer-Peirce-Little Farm\, 5 Little’s Lane\, Newbury\, Massachusetts\, United States
CATEGORIES:Charity,Festival,Nightlife,Outdoor
END:VEVENT
BEGIN:VEVENT
DTSTART;TZID=America/New_York:20240115T000000
DTEND;TZID=America/New_York:20240115T235959
DTSTAMP:20260425T105251
CREATED:20240103T165548Z
LAST-MODIFIED:20240103T165550Z
UID:181301-1705276800-1705363199@www.nshoremag.com
SUMMARY:Martin Luther King Day 2024
DESCRIPTION:Martin Luther King Jr. Day is on the third Monday in January each year\, to commemorate the late civil rights leader’s birthday. This year\, the holiday falls on King’s birthday: January 15.
URL:https://www.nshoremag.com/event/martin-luther-king-day-2024/
LOCATION:Massachusetts
END:VEVENT
BEGIN:VEVENT
DTSTART;TZID=America/New_York:20240115T100000
DTEND;TZID=America/New_York:20240115T170000
DTSTAMP:20260425T105251
CREATED:20231115T171953Z
LAST-MODIFIED:20231115T171955Z
UID:180664-1705312800-1705338000@www.nshoremag.com
SUMMARY:Annual Open House at MFA Boston
DESCRIPTION:The Museum of Fine Arts\, Boston (MFA)\, and Citizens invite the community to commemorate the life and work of Dr. Martin Luther King Jr. at a free open house for Massachusetts residents. Citizens has sponsored the annual celebration for 21 consecutive years—allowing the Museum to welcome more than 120\,000 visitors to enjoy free performances\, tours\, art-making activities and more. The open house will run from 10 am to 5 pm\, and free tickets will be available on a first-come\, first-served basis.
URL:https://www.nshoremag.com/event/annual-open-house-at-mfa-boston/
LOCATION:Museum of Fine Arts\, Boston\, 465 Huntington Ave\, Boston\, Massachusetts\, 02115\, United States
CATEGORIES:Art,Education,Holiday
END:VEVENT
BEGIN:VEVENT
DTSTART;TZID=America/New_York:20240115T100000
DTEND;TZID=America/New_York:20240115T160000
DTSTAMP:20260425T105251
CREATED:20240109T193402Z
LAST-MODIFIED:20240109T193404Z
UID:181483-1705312800-1705334400@www.nshoremag.com
SUMMARY:PEM’s Dr. Martin Luther King Jr. Day Celebration
DESCRIPTION:On Monday\, January 15\, from 10 a.m. to 4 p.m. the Peabody Essex Museum in Salem once again celebrates Dr. Martin Luther King Jr. Day. While you’re there\, check out exhibits like “Let None Be Excluded: The Origins of Equal School Rights in Salem” and “Bethany Collins\, America: A Hymnal.”
URL:https://www.nshoremag.com/event/pems-dr-martin-luther-king-jr-day-celebration/
LOCATION:Peabody Essex Museum\, 161 Essex Street\, Salem\, Massachusetts\, United States
CATEGORIES:Holiday
END:VEVENT
BEGIN:VEVENT
DTSTART;TZID=America/New_York:20240120T100000
DTEND;TZID=America/New_York:20240121T170000
DTSTAMP:20260425T105251
CREATED:20240103T182150Z
LAST-MODIFIED:20240103T182152Z
UID:181324-1705744800-1705856400@www.nshoremag.com
SUMMARY:3rd Annual Gloucester's So Salty 2024
DESCRIPTION:Celebrate the fish city’s recognizably salty character with local cultural institutions and businesses during the 3rd Annual Gloucester’s So Salty festival on January 20 and 21\, 2024 from 10:00 am – 5:00 pm! Over 1\,800 people came out last year to share their salty pride while enjoying free ice sculptures and cultural activities around Downtown Gloucester. \n\n\n\n\n\nThe Cape Ann Museum is partnering with Discover Gloucester and several area cultural institutions and businesses to offer two full days of free programming in the coldest part of the year. Inspired by the annual Salem’s So Sweet event\, this two-day event will include ice sculptures\, live music\, salty treats\, free kids’ art activities\, and much more.
URL:https://www.nshoremag.com/event/3rd-annual-gloucesters-so-salty-2024/
LOCATION:Downtown Gloucester\, Gloucester\, Massachusetts\, United States
CATEGORIES:Festival,Outdoor
END:VEVENT
BEGIN:VEVENT
DTSTART;TZID=America/New_York:20240121T120000
DTEND;TZID=America/New_York:20240121T150000
DTSTAMP:20260425T105251
CREATED:20240104T175141Z
LAST-MODIFIED:20240104T175142Z
UID:181333-1705838400-1705849200@www.nshoremag.com
SUMMARY:The Liberty Hotel Hosts Inaugural 2024 Winter Wedding Expo
DESCRIPTION:The Liberty Hotel hosts their inaugural 2024 Winter Wedding Expo on Sunday\, Jan. 21. Engaged couples are invited to step into a world of enchantment at The Liberty Hotel‘s 2024 Winter Wedding Expo. Engaged couples are invited to immerse themselves in ornate architecture and quintessentially Boston charm at the Liberty Hotel\, nestled in the heart of Beacon Hill.  For $50/ticket\, guests will have access to a number of the hotel’s preferred vendors and partners in the Ballroom\, 4th floor & 5th floor rotunda\, as well as passed bites and prosecco. There will be dozens of wedding vendors\, wedding planners and professionals onsite to showcase their businesses.  \n\n\n\nThe Liberty Hotel seamlessly blends elegance and contemporary sophistication\, offering the perfect backdrop for the perfect\, dream wedding. Let the magic of The Liberty Hotel and their preferred vendors inspire every engaged couples’ wedding dreams. Wander through the historically unique event space during the expo\, where tradition meets extravagance. Connect with preferred vendors\, explore curated setups\, and let the charm of Boston and the allure of the venue captivate your heart. Reserve tickets now and follow “Liberty Weddings” on Instagram and get inspired on Pinterest.
URL:https://www.nshoremag.com/event/the-liberty-hotel-hosts-inaugural-2024-winter-wedding-expo/
LOCATION:The Liberty Hotel\, 215 Charles Street\, Boston\, Massachusetts\, United States
CATEGORIES:Food + Drink,Shop,Wedding
END:VEVENT
BEGIN:VEVENT
DTSTART;TZID=America/New_York:20240125T000000
DTEND;TZID=America/New_York:20240127T235959
DTSTAMP:20260425T105251
CREATED:20240109T193605Z
LAST-MODIFIED:20240109T193607Z
UID:181485-1706140800-1706399999@www.nshoremag.com
SUMMARY:Salem Comedy Festival 2024
DESCRIPTION:The Salem Comedy & Spirits festival returns to Witch City on the last weekend in January. Founded in 2016 by comedian Mark Scalia\, the non-competitive festival is all about networking and having fun\, drawing comedians from across the country. The fest features three nights of stand-up comedy performances at local Salem breweries this January 25 through 27. \n\n\n\nFind tickets\, times\, and locations using the link below.
URL:https://www.nshoremag.com/event/salem-comedy-festival-2024/
LOCATION:Massachusetts
CATEGORIES:Festival,Food + Drink,Nightlife
END:VEVENT
BEGIN:VEVENT
DTSTART;TZID=America/New_York:20240125T060000
DTEND;TZID=America/New_York:20240125T063000
DTSTAMP:20260425T105251
CREATED:20240103T172320Z
LAST-MODIFIED:20240103T172321Z
UID:181308-1706162400-1706164200@www.nshoremag.com
SUMMARY:Crane Outdoors Series 2024: Dunes by the Light of the Full Moon
DESCRIPTION:Transformed and illuminated by the glow of the full moon\, the beach and dunes of Castle Neck are a stunningly beautiful landscape. To experience this special place at this magical time\, join us for a unique hiking experience.
URL:https://www.nshoremag.com/event/crane-outdoors-series-2024-dunes-by-the-light-of-the-full-moon/
LOCATION:Crane Beach on the Crane Estate\, 310 Argilla Road\, Ipswich\, Massachusetts\, United States
CATEGORIES:Outdoor
END:VEVENT
BEGIN:VEVENT
DTSTART;TZID=America/New_York:20240125T180000
DTEND;TZID=America/New_York:20240125T210000
DTSTAMP:20260425T105251
CREATED:20240103T171401Z
LAST-MODIFIED:20240103T171404Z
UID:181304-1706205600-1706216400@www.nshoremag.com
SUMMARY:Portuguese Wine Dinner at 1606 Restaurant and Oyster Bar
DESCRIPTION:Join us at 1606 Restaurant & Oyster Bar on January 25th for their Portuguese Wine Dinner Pairing!  \n\n\n\n\n\nThis four-course intimate dining experience will feature our Chef’s creations paired with a different varietal of Portuguese Wine for $120++ Dinner begins at 6:00PM.  \n\n\n\n1st Course: Pan Seared Monkfish\, paired with Castello d’Alba Reserva White  \n\n\n\n2nd Course: Crispy Octopus\, paired with Fonte do Ouro Reserva Red  \n\n\n\n3rd Course: Grilled Wild Boar\, paired with Dona Maria Grande Reserva Red  \n\n\n\n4th Course: Filo Crusted Cheesecake\, paired with Van Zellers & Co. 20yr Tawny Port
URL:https://www.nshoremag.com/event/portuguese-wine-dinner-at-1606-restaurant-and-oyster-bar/
LOCATION:Beauport Hotel\, 55 Commercial Street\, Gloucester\, Massachusetts\, United States
CATEGORIES:Cooking,Food + Drink,Nightlife
END:VEVENT
BEGIN:VEVENT
DTSTART;TZID=America/New_York:20240126T140000
DTEND;TZID=America/New_York:20240127T180000
DTSTAMP:20260425T105251
CREATED:20240124T184111Z
LAST-MODIFIED:20240124T184337Z
UID:181734-1706277600-1706378400@www.nshoremag.com
SUMMARY:Guided Wine Tasting at Lucille Wine Shop
DESCRIPTION:Join Lucille Wine Shop for Sommelier-led wine tastings! Wine tastings at Lucille provide guests the opportunity to enjoy their collection while learning about wine.  \n\n\n\nVisit their tasting room open on Friday’s & Saturday’s for a tasting at 2pm\, 4pm\, or 6pm.  \n\n\n\n Retail store is open Tuesday – Saturday 11am-8pm and Sundays from 12-6pm. \n\n\n\n\n\nABOUT THEIR WINE TASTINGS \n\n\n\nReservations are encouraged\, yet walk-ins are always welcome. They book parties of up to 10 people for 1-hour guided wine tastings. For parties of 9 or more\, please call the shop directly at 781-584-4695. The fee for wine tastings fee is $35 per person. \n\n\n\nWHAT’S INCLUDED?Flight of 4 unique and handcrafted wines- the topic changes every other week to showcase what they’re most excited about!A selection of local cheeses\, snacks\, and accompanimentsA guided educational experience lead by their in-house sommelier team\, recommendations\, and time to shop
URL:https://www.nshoremag.com/event/guided-wine-tasting-at-lucille-wine-shop/
LOCATION:Lucille Wine Shop\, 776 Washington Street\, Lynn\, Massachusetts\, United States
CATEGORIES:Education,Food + Drink,Shop
END:VEVENT
BEGIN:VEVENT
DTSTART;TZID=America/New_York:20240127T000000
DTEND;TZID=America/New_York:20240128T235959
DTSTAMP:20260425T105251
CREATED:20240109T193854Z
LAST-MODIFIED:20240109T193856Z
UID:181486-1706313600-1706486399@www.nshoremag.com
SUMMARY:Chocolate Expo Wilmington 2024
DESCRIPTION:The Chocolate Expo returns to the Shriners Auditorium in Wilmington this January\, this time for a whole weekend of family-friendly fun. This year’s event\, which runs on Saturday and Sunday from 10 a.m. through 6 p.m.\, will host a reunion of four stars from the 1971 film Willy Wonka and the Chocolate Factory. The expo also features samples from dozens of vendors including artisan chocolatiers\, candy shops\, bakeries\, and wineries\, along with the chance to chat with the makers. Timed tickets are currently on sale for $20 for adults and $10 for children.
URL:https://www.nshoremag.com/event/chocolate-expo-wilmington-2024/
LOCATION:Shriners Auditorium\, 99 Fordham Road\, Wilmington\, Massachusetts\, United States
CATEGORIES:Cooking,Festival,Food + Drink,Shop
END:VEVENT
BEGIN:VEVENT
DTSTART;TZID=America/New_York:20240127T183000
DTEND;TZID=America/New_York:20240127T210000
DTSTAMP:20260425T105251
CREATED:20240103T182505Z
LAST-MODIFIED:20240103T182506Z
UID:181326-1706380200-1706389200@www.nshoremag.com
SUMMARY:Willy Wonka Wine Dinner 2024
DESCRIPTION:Step into a world of pure imagination at our “Willy Wonka-inspired” four-course Wine Dinner! Experience a carefully curated dinner menu that pays homage to the iconic film\, with LaBelle wine pairings served alongside each course. Our Vineyard Ballroom will be decked-out in Wonka-themed decor\, providing a magical backdrop for your dining experience. Space is limited\, secure your “golden-ticket” to experience fine dining in a truly magical atmosphere! \n\n\n\nSee all Event Details & Buy Tickets using link below.
URL:https://www.nshoremag.com/event/willy-wonka-wine-dinner-2024/
LOCATION:LaBelle Winery\, 14 NH 111\, Derry\, New Hampshire\, United States
CATEGORIES:Food + Drink,Nightlife
END:VEVENT
BEGIN:VEVENT
DTSTART;TZID=America/New_York:20240127T200000
DTEND;TZID=America/New_York:20240127T223000
DTSTAMP:20260425T105251
CREATED:20240124T180118Z
LAST-MODIFIED:20240124T180119Z
UID:181724-1706385600-1706394600@www.nshoremag.com
SUMMARY:Foreigners Journey at Blue Ocean Music Hall
DESCRIPTION:Indulge your senses in great food and dine at one of the on-site restaurants before the show!   \n\n\n\nFeaturing Keith CarmichaelReserved Seating:  $25.50 – $29.50VIP Ticket: $65 – Includes seating at front tables and before-show soundcheck access + M&G
URL:https://www.nshoremag.com/event/foreigners-journey-at-blue-ocean-music-hall/
LOCATION:Blue Ocean Music Hall\, 4 Oceanfront North\, Salisbury\, United States
END:VEVENT
BEGIN:VEVENT
DTSTART;TZID=America/New_York:20240128T100000
DTEND;TZID=America/New_York:20240128T160000
DTSTAMP:20260425T105251
CREATED:20231115T180911Z
LAST-MODIFIED:20231115T180913Z
UID:180669-1706436000-1706457600@www.nshoremag.com
SUMMARY:The Boston Run Show
DESCRIPTION:The Boston Run Show is the home for runners\, no matter how far or fast you go. They bring together inspirational speakers\, the latest gear\, cutting-edge technology\, expert coaches\, the best races and a host of tasty nutrition products all under one roof. This is the biggest community meet-up of the year and perfectly timed for runners that are training for events in the Spring and fall. The Boston Run Show is a community event for everyone\, regardless of background\, ethnicity or ability – if you take one step then you’re a runner.
URL:https://www.nshoremag.com/event/the-boston-run-show-2/
LOCATION:Hynes Convention Center\, 900 Boylston Street\, Boston\, Massachusetts\, 02115\, United States
CATEGORIES:Festival,Fitness,Food + Drink,Shop,Shopping
END:VEVENT
END:VCALENDAR